BEGIN:VCALENDAR
VERSION:2.0
PRODID:-//Tukios.com/
BEGIN:VEVENT
UID:729fd952-23a5-4b2b-95ae-7ffe7017f58e@www.schoolerfuneralhome.com
DTSTAMP:20260423T054120Z
DTSTART:20260428T190000Z
DTEND:20260428T200000Z
SUMMARY:Memorial Service
DESCRIPTION:The memorial service will be in the community room at Winwood 
	Village of Amarillo.
URL:https://www.schoolerfuneralhome.com/obituaries/helen-bunch
LOCATION:Winwood Village of Amarillo 4421 Ridgecrest Cir  Amarillo TX 
	79109
GEO:35.163467;-101.8895285
END:VEVENT
END:VCALENDAR