BEGIN:VCALENDAR
VERSION:2.0
PRODID:-//Tukios.com/
BEGIN:VEVENT
UID:a66ac2ae-d20a-4ad0-aa85-e9191b774353@www.schoolerfuneralhome.com
DTSTAMP:20260424T045514Z
DTSTART:20260427T190000Z
DTEND:20260427T200000Z
SUMMARY:Memorial Service
DESCRIPTION:
URL:https://www.schoolerfuneralhome.com/obituaries/jo-rita-groves
LOCATION:Freedom Baptist Church 900 Alta Vista St  Amarillo TX 79106
GEO:35.2056821;-101.8951188
END:VEVENT
END:VCALENDAR