BEGIN:VCALENDAR
VERSION:2.0
PRODID:-//Tukios.com/
BEGIN:VEVENT
UID:25497ce1-b268-45e4-abb7-73ffd9e4ea68@www.schoolerfuneralhome.com
DTSTAMP:20260423T083004Z
DTSTART:20260502T173000Z
DTEND:20260502T185500Z
SUMMARY:Visitation
DESCRIPTION:
URL:https://www.schoolerfuneralhome.com/obituaries/judy-laird
LOCATION:Schooler Funeral Home  4100 South Georgia Street  Amarillo TX 
	79110
GEO:35.1716721;-101.8665402
END:VEVENT
END:VCALENDAR