BEGIN:VCALENDAR
VERSION:2.0
PRODID:-//Tukios.com/
BEGIN:VEVENT
UID:4d552251-0287-4170-8661-021eb41bb04a@www.schoolerfuneralhome.com
DTSTAMP:20260423T082729Z
DTSTART:20260502T190000Z
DTEND:20260502T200000Z
SUMMARY:Celebration of Life
DESCRIPTION:
URL:https://www.schoolerfuneralhome.com/obituaries/judy-laird
LOCATION:Schooler Funeral Home  4100 South Georgia Street  Amarillo TX 
	79110
GEO:35.1716721;-101.8665402
END:VEVENT
END:VCALENDAR