BEGIN:VCALENDAR
VERSION:2.0
PRODID:-//Tukios.com/
BEGIN:VEVENT
UID:a969942e-c2eb-4be7-a922-91c2ed0101c9@www.schoolerfuneralhome.com
DTSTAMP:20260422T212744Z
DTSTART:20260504T150000Z
DTEND:20260504T160000Z
SUMMARY:Memorial Service
DESCRIPTION:
URL:https://www.schoolerfuneralhome.com/obituaries/sally-skaggs
LOCATION: 1601 South Georgia Street  Amarillo TX 79102
GEO:35.1962792;-101.8656047
END:VEVENT
END:VCALENDAR