BEGIN:VCALENDAR
VERSION:2.0
PRODID:-//Tukios.com/
BEGIN:VEVENT
UID:e3c4b4cb-0c2b-41d6-925d-66728278a7ec@www.schoolerfuneralhome.com
DTSTAMP:20260425T024023Z
DTSTART:20260429T150000Z
DTEND:20260429T160000Z
SUMMARY:Funeral Service
DESCRIPTION:
URL:https://www.schoolerfuneralhome.com/obituaries/wendy-white
LOCATION: 4100 S Georgia St  Amarillo TX 79110
GEO:35.1714265;-101.867097
END:VEVENT
END:VCALENDAR