BEGIN:VCALENDAR
VERSION:2.0
PRODID:-//Tukios.com/
BEGIN:VEVENT
UID:7cfc9248-8f1a-49d6-b353-beddfbce9096@www.schoolerfuneralhome.com
DTSTAMP:20260425T024939Z
DTSTART:20260428T223000Z
DTEND:20260429T000000Z
SUMMARY:Visitation
DESCRIPTION:
URL:https://www.schoolerfuneralhome.com/obituaries/wendy-white
LOCATION: 4100 S Georgia St  Amarillo TX 79110
GEO:35.1714265;-101.867097
END:VEVENT
END:VCALENDAR